BEGIN:VCALENDAR
VERSION:2.0
PRODID:-//Welcome to Rock Run Sanctuary - ECPv6.15.17.1//NONSGML v1.0//EN
CALSCALE:GREGORIAN
METHOD:PUBLISH
X-WR-CALNAME:Welcome to Rock Run Sanctuary
X-ORIGINAL-URL:https://rockrunanimalrescue.org
X-WR-CALDESC:Events for Welcome to Rock Run Sanctuary
REFRESH-INTERVAL;VALUE=DURATION:PT1H
X-Robots-Tag:noindex
X-PUBLISHED-TTL:PT1H
BEGIN:VTIMEZONE
TZID:UTC
BEGIN:STANDARD
TZOFFSETFROM:+0000
TZOFFSETTO:+0000
TZNAME:UTC
DTSTART:20200101T000000
END:STANDARD
END:VTIMEZONE
BEGIN:VEVENT
DTSTART;TZID=UTC:20210515T100000
DTEND;TZID=UTC:20210515T140000
DTSTAMP:20260421T213214
CREATED:20210429T201858Z
LAST-MODIFIED:20210429T202042Z
UID:1785-1621072800-1621087200@rockrunanimalrescue.org
SUMMARY:The Davis Dog Farm Community Event
DESCRIPTION:Location: \n\nThe Davis Dog Farm Community Event\n\n2686 Sand Beach Rd\, Grantville\, PA 17028-8675  Visit their FB Event Page for more information.\n\n\n\n\n\nThe Davis Dog Farm will be hosting a Community Yard Sale to help raise money towards saving the lives of many dogs!\nWho will be there?\nTattered Flag. Keller BBQ. Wags In Style LLC. Balloon Animals. Raffle Baskets. Adoptable Dogs. Thirty One. Tastefully Simple. Rock Run Rescue. Norwex. Color Street. Wampler Industries. ALK Designs. Brittany Leigh Designs. Big B’s Glove and Safety. Lured by Cody. Maxx K9 Academy
URL:https://rockrunanimalrescue.org/event/the-davis-dog-farm-community-event/
LOCATION:PA
END:VEVENT
END:VCALENDAR