BEGIN:VCALENDAR
VERSION:2.0
PRODID:-//Welcome to Rock Run Sanctuary - ECPv6.15.17.1//NONSGML v1.0//EN
CALSCALE:GREGORIAN
METHOD:PUBLISH
X-WR-CALNAME:Welcome to Rock Run Sanctuary
X-ORIGINAL-URL:https://rockrunanimalrescue.org
X-WR-CALDESC:Events for Welcome to Rock Run Sanctuary
REFRESH-INTERVAL;VALUE=DURATION:PT1H
X-Robots-Tag:noindex
X-PUBLISHED-TTL:PT1H
BEGIN:VTIMEZONE
TZID:UTC
BEGIN:STANDARD
TZOFFSETFROM:+0000
TZOFFSETTO:+0000
TZNAME:UTC
DTSTART:20200101T000000
END:STANDARD
END:VTIMEZONE
BEGIN:VEVENT
DTSTART;TZID=UTC:20210523T120000
DTEND;TZID=UTC:20210523T160000
DTSTAMP:20260421T093528
CREATED:20210518T191647Z
LAST-MODIFIED:20210518T191813Z
UID:1800-1621771200-1621785600@rockrunanimalrescue.org
SUMMARY:12th Annual Pet WALK and Fun Fest
DESCRIPTION:Collect Sponsors ** Come Walk ** Join the Fun!! \nThere will be local vendors\, food\, lots of dogs and FUN!!\nWe hope see to previous adopters and to meet new ones!!\nVENDOR LIST:\nRock Run Animal Rescue\nFlickinger’s Paws and Claws- Pet supplies and trimming nails\nBaked- yummy baked goods\nWho’s A Good Dog Gourmet Dog Treats\nMr. Snowie- snow cones and soft serve ice cream.\nColor Street- Nansnails\nTupperware\nPink Ladies $5 Jewelry\nTurbett back 40\nLures by Cody\nAmerican Shaman of Newport-CBD\nScentsy\nFabricated Notions\nSimply Shabby\nDaisey’s Pawfect Design\nHillary’s Hound School\n\nRABIES AND MICRO CHIP CLINIC…..\n11AM-2PM\n$15 Rabies vaccine\n$30 Micro chip
URL:https://rockrunanimalrescue.org/event/12th-annual-pet-walk-and-fun-fest-2/
LOCATION:Little Buffalo State Park
END:VEVENT
END:VCALENDAR